BEGIN:VCALENDAR
VERSION:2.0
PRODID:-//Red Explora Navarra - Nafarroa Ezagutu Sarea - ECPv4.9.10//NONSGML v1.0//EN
CALSCALE:GREGORIAN
METHOD:PUBLISH
X-WR-CALNAME:Red Explora Navarra - Nafarroa Ezagutu Sarea
X-ORIGINAL-URL:https://redexploranavarra.es
X-WR-CALDESC:Events for Red Explora Navarra - Nafarroa Ezagutu Sarea
BEGIN:VTIMEZONE
TZID:Europe/Paris
BEGIN:DAYLIGHT
TZOFFSETFROM:+0100
TZOFFSETTO:+0200
TZNAME:CEST
DTSTART:20230326T010000
END:DAYLIGHT
BEGIN:STANDARD
TZOFFSETFROM:+0200
TZOFFSETTO:+0100
TZNAME:CET
DTSTART:20231029T010000
END:STANDARD
END:VTIMEZONE
BEGIN:VEVENT
DTSTART;TZID=Europe/Paris:20230806T143000
DTEND;TZID=Europe/Paris:20230806T200000
DTSTAMP:20260424T132941
CREATED:20230731T071514Z
LAST-MODIFIED:20230731T071514Z
UID:15127-1691332200-1691352000@redexploranavarra.es
SUMMARY:ANTZINAKO AZOKA (Lekunberri)
DESCRIPTION:\n				\n					\n					\n									\n										Facebook\n									\n								\n									\n										Twitter\n									\n								\n									\n										LinkedIn\n									\n								\n				\n			Datorren igandean\, abuztuak 6\, Antzinako azoka ospatuko da Lekunberrin. Musika izango da aurtengo edizioaren gai nagusia\, Lekunberriko alde zaharreko kaleetan zehar \nInformazio gehiago: PRENTSA OHARRA ANTZINAKO AZOKA 2023 _ eusk – ACC \n
URL:https://redexploranavarra.es/eu/evento/antzinako-azoka-lekunberri/
LOCATION:Navarra\, España
ATTACH;FMTTYPE=image/png:https://redexploranavarra.es/wp-content/uploads/2023/07/Antzinako-Azoka-2023-Lekunberri-PROGRAMA-1.png
END:VEVENT
END:VCALENDAR