BEGIN:VCALENDAR
VERSION:2.0
PRODID:-//Red Explora Navarra - Nafarroa Ezagutu Sarea - ECPv4.9.10//NONSGML v1.0//EN
CALSCALE:GREGORIAN
METHOD:PUBLISH
X-WR-CALNAME:Red Explora Navarra - Nafarroa Ezagutu Sarea
X-ORIGINAL-URL:https://redexploranavarra.es
X-WR-CALDESC:Events for Red Explora Navarra - Nafarroa Ezagutu Sarea
BEGIN:VTIMEZONE
TZID:Europe/Paris
BEGIN:DAYLIGHT
TZOFFSETFROM:+0100
TZOFFSETTO:+0200
TZNAME:CEST
DTSTART:20230326T010000
END:DAYLIGHT
BEGIN:STANDARD
TZOFFSETFROM:+0200
TZOFFSETTO:+0100
TZNAME:CET
DTSTART:20231029T010000
END:STANDARD
END:VTIMEZONE
BEGIN:VEVENT
DTSTART;TZID=Europe/Paris:20230819T100000
DTEND;TZID=Europe/Paris:20230819T133000
DTSTAMP:20260424T083430
CREATED:20230810T090751Z
LAST-MODIFIED:20230810T110528Z
UID:15183-1692439200-1692451800@redexploranavarra.es
SUMMARY:Arkuek\, denboran atzera eginez
DESCRIPTION:\n				\n					\n					\n									\n										Facebook\n									\n								\n									\n										Twitter\n									\n								\n									\n										LinkedIn\n									\n								\n				\n			Ez galdu aralarko pagadia\, “arkuek”\, formazio geologikoak eta mendilerroaren erabilera tradizionala eta kudeaketa ezagutzeko gure jasangarritasun teknikariek Aralarren antolatu duten bisita gidatua. \n\nData: abuztuak 19\nOrdua: 10:00-13:30 am\nAbiapuntua: Aralarko San Migel Santutegia\nIzen- ematea: https://reservas.redexploranavarra.es/esp-Aralar/Ibilbidegidatua\n\nIbilibidearen ezaugarri teknikoak: \n\nZailtasuna: erraza/ ertaina\nDistantzia: 6km\nDesnibela: +250m\nGomendatutako profila: publiko orokorra.\n\n
URL:https://redexploranavarra.es/eu/evento/arkuek-denboran-atzera-eginez/
LOCATION:Navarra\, España
ATTACH;FMTTYPE=image/jpeg:https://redexploranavarra.es/wp-content/uploads/2023/08/Sakana-19-agosto.jpg
END:VEVENT
END:VCALENDAR