BEGIN:VCALENDAR
VERSION:2.0
PRODID:-//Red Explora Navarra - Nafarroa Ezagutu Sarea - ECPv4.9.10//NONSGML v1.0//EN
CALSCALE:GREGORIAN
METHOD:PUBLISH
X-WR-CALNAME:Red Explora Navarra - Nafarroa Ezagutu Sarea
X-ORIGINAL-URL:https://redexploranavarra.es
X-WR-CALDESC:Events for Red Explora Navarra - Nafarroa Ezagutu Sarea
BEGIN:VTIMEZONE
TZID:Europe/Paris
BEGIN:DAYLIGHT
TZOFFSETFROM:+0100
TZOFFSETTO:+0200
TZNAME:CEST
DTSTART:20230326T010000
END:DAYLIGHT
BEGIN:STANDARD
TZOFFSETFROM:+0200
TZOFFSETTO:+0100
TZNAME:CET
DTSTART:20231029T010000
END:STANDARD
END:VTIMEZONE
BEGIN:VEVENT
DTSTART;TZID=Europe/Paris:20230901T110000
DTEND;TZID=Europe/Paris:20230902T143000
DTSTAMP:20260422T160104
CREATED:20230825T111301Z
LAST-MODIFIED:20230825T121142Z
UID:15302-1693566000-1693665000@redexploranavarra.es
SUMMARY:ESLAVAKO SANTA CRIZ JARDUNALDIAK
DESCRIPTION:\n				\n					\n					\n									\n										Facebook\n									\n								\n									\n										Twitter\n									\n								\n									\n										LinkedIn\n									\n								\n				\n			Ezagutu ezazu irailaren 1ean\, ostiralarekin\, 11etan gure bisita gidatuarekin\, Santa Criz aztarnategia\, bere erakusketa eta ardo dastaketa Bodega Eslavan amaitzeko. Irailaren 2an\, larunbata\, 10etan\, bisita\, erakusketa eta dastaketa errepikatuko dira\, baina\, horrez gain\, tailer arkeologiko bat egingo da familiako txikienentzat. Bi jardunaldiak doakoak dira. Izena emateko deitu 674024897 telefonora\, idatzi redexploracg@cederna.es helbide elektronikora edo bete https://forms.gle/myuPpBgvYdJozSrXA inprimakiaIzena. \n  \n
URL:https://redexploranavarra.es/eu/evento/eslavako-santa-criz-jardunaldiak/
LOCATION:Navarra\, España
ATTACH;FMTTYPE=image/jpeg:https://redexploranavarra.es/wp-content/uploads/2023/08/Eslabako-Santa-Criz-de-kartela.jpg
END:VEVENT
END:VCALENDAR