BEGIN:VCALENDAR
VERSION:2.0
PRODID:-//Red Explora Navarra - Nafarroa Ezagutu Sarea - ECPv4.9.10//NONSGML v1.0//EN
CALSCALE:GREGORIAN
METHOD:PUBLISH
X-WR-CALNAME:Red Explora Navarra - Nafarroa Ezagutu Sarea
X-ORIGINAL-URL:https://redexploranavarra.es
X-WR-CALDESC:Events for Red Explora Navarra - Nafarroa Ezagutu Sarea
BEGIN:VTIMEZONE
TZID:Europe/Paris
BEGIN:DAYLIGHT
TZOFFSETFROM:+0100
TZOFFSETTO:+0200
TZNAME:CEST
DTSTART:20220327T010000
END:DAYLIGHT
BEGIN:STANDARD
TZOFFSETFROM:+0200
TZOFFSETTO:+0100
TZNAME:CET
DTSTART:20221030T010000
END:STANDARD
END:VTIMEZONE
BEGIN:VEVENT
DTSTART;TZID=Europe/Paris:20220911T103000
DTEND;TZID=Europe/Paris:20220911T133000
DTSTAMP:20260426T015110
CREATED:20220908T095458Z
LAST-MODIFIED:20220908T095458Z
UID:14346-1662892200-1662903000@redexploranavarra.es
SUMMARY:Ibilaldi BIDE BERDEAN ZEHAR
DESCRIPTION:\n				\n					\n					\n									\n										Facebook\n									\n								\n									\n										Twitter\n									\n								\n									\n										LinkedIn\n									\n								\n				\n			🚂Bidasoako Bide Berdea ezagutzen duzu? Tren Txikitoren historia ezagutu nahi duzu? \n🛤️Irailaren 10ean Doneztebetik …..ra joanen gara Bidasoako Bide Berdearen ondareaz\, naturaz eta kondairetaz gozatzeko aukera izango dugu. \nJarduera DOHANIK da. \n🚲Zure bizikleta eta kaskoa ekarri. \n⌚Ibilaldia Donezteben hasiko da 10:00etan \n📞Izena emateko telefonoa:607679903 \n
URL:https://redexploranavarra.es/eu/evento/ibilaldi-bide-berdean-zehar/
LOCATION:Navarra\, España
ATTACH;FMTTYPE=image/jpeg:https://redexploranavarra.es/wp-content/uploads/2022/09/bide-berdean-zehar-2.jpg
END:VEVENT
END:VCALENDAR