BEGIN:VCALENDAR
VERSION:2.0
PRODID:-//Red Explora Navarra - Nafarroa Ezagutu Sarea - ECPv4.9.10//NONSGML v1.0//EN
CALSCALE:GREGORIAN
METHOD:PUBLISH
X-WR-CALNAME:Red Explora Navarra - Nafarroa Ezagutu Sarea
X-ORIGINAL-URL:https://redexploranavarra.es
X-WR-CALDESC:Eventos para Red Explora Navarra - Nafarroa Ezagutu Sarea
BEGIN:VTIMEZONE
TZID:Europe/Paris
BEGIN:DAYLIGHT
TZOFFSETFROM:+0100
TZOFFSETTO:+0200
TZNAME:CEST
DTSTART:20190331T010000
END:DAYLIGHT
BEGIN:STANDARD
TZOFFSETFROM:+0200
TZOFFSETTO:+0100
TZNAME:CET
DTSTART:20191027T010000
END:STANDARD
END:VTIMEZONE
BEGIN:VEVENT
DTSTART;TZID=Europe/Paris:20190615T120000
DTEND;TZID=Europe/Paris:20190615T140000
DTSTAMP:20260422T123609
CREATED:20190516T072456Z
LAST-MODIFIED:20190516T072456Z
UID:8398-1560600000-1560607200@redexploranavarra.es
SUMMARY:Muestreo de peces con pesca eléctrica en el río Arga en Pamplona
DESCRIPTION:\n				\n					\n					\n									\n										Facebook\n									\n								\n									\n										Twitter\n									\n								\n									\n										LinkedIn\n									\n								\n				\n			Empleo de la pesca eléctrica para el estudio y muestreo de peces.\nIdentificación de especies autóctonas\, exóticas o invasoras. \nhttps://docs.google.com/forms/d/1ZVS_498yoHTXK9FYKwoH4phfrAocq86o06FkzVCloyo/viewform?edit_requested=true \n  \n  \n
URL:https://redexploranavarra.es/evento/muestreo-de-peces-con-pesca-electrica-en-el-rio-arga-en-pamplona/
ATTACH;FMTTYPE=image/png:https://redexploranavarra.es/wp-content/uploads/2019/05/pescaelectrica.png
ORGANIZER;CN="Guarderio%20forestal%20Ronda%20Central":MAILTO:ogfocentral@navarra.es.
END:VEVENT
END:VCALENDAR